BEGIN:VCALENDAR
VERSION:2.0
PRODID:icalendar-ruby
CALSCALE:GREGORIAN
METHOD:PUBLISH
BEGIN:VEVENT
DTSTAMP:20260423T235814Z
UID:106-484283@journeychurchtacoma.org
DTSTART:20260425T150000Z
DTEND:20260425T180000Z
CLASS:PUBLIC
CREATED:20260423T124640
DESCRIPTION:
LAST-MODIFIED:20260423T124640
LOCATION:Journey Church Tacoma
SUMMARY:Men's Breakfast
URL;VALUE=URI:https://journeychurchtacoma.org/events/mens-breakfast/2026-04
 -25
ATTACH;FILENAME=Mens-Breakfast-April-2026-promo.jpg;FMTTYPE=image/jpeg:http
 s://dq5pwpg1q8ru0.cloudfront.net/2026/04/23/19/45/36/f23a99ca-22c3-4825-bc
 c2-4cc9331d40a6/Mens-Breakfast-April-2026-promo.jpg
END:VEVENT
END:VCALENDAR
